BEGIN:VCALENDAR
METHOD:PUBLISH
VERSION:2.0
PRODID:-//Eventilla iCal Syndication//NONSGML Liana//EN
BEGIN:VEVENT
UID:8aBdQ@eventilla.com
DTSTAMP:20230306T160000Z
DTSTART:20230306T160000Z
DTEND:20230316T181500Z
SUMMARY:Luonnon luova lähi- ja maisemakuvaus 6.3.-16.3.2023 (verkkokurssi)
DESCRIPTION:Luovan luonnon lähi- ja maisemakuvauskurssin tavoitteena on antaa osallistujille tarvittavat tiedot kameran käytöstä makrokuvauksessa (kasvien ja luonnon yksityiskohtien kuvaus) ja maisemakuvauksessa.\nKurssilla vahvistetaan kuvaajan omaa näkemystä lähi- ja maisemakuvauksessa sekä käydään läpi luovan kuvauksen lähestymistapoja ja tekniikoita erilaisia kohteita kuvattaessa\nKoronaviruspandemian vuoksi kurssi järjestetään verkkokurssina luokassa tapahtuvan lähiopetuksen sijaan.\nHinta\nVerkkokurssin hinta on 135€/hlö (sis. opetuksen\, tehtävät ja kurssilla käsiteltävä materiaali).\nKurssille osallistuminen vahvistetaan ilmoittautumalla kurssille sähköisen lomakkeen kautta; ilmoittautuneille lähetetään ilmoittautumisajan päätyttyä maksulinkki\, jonka kautta kurssin pääsee maksamaan verkkopankissa pankki- tai luottokortilla.\nKurssimaksun voi maksaa myös ePassilla\, SmartumPay (kulttuuri)-\, Edenred (kulttuuri) tai Eazybreak–sovelluksella.\nHuom! Älä maksa sovelluksellasi mitään ennen kuin olet sopinut erikseen maksutapahtumasta Otavan Opiston kanssa – kysy lisätietoja kurssit@otavanopisto.fi\nLisätietoja\nkurssit@otavanopisto.fi\, p. 044 794 3565\nIlmoittautuminen\nIlmoittautuminen 1.3.2023 mennessä.\nPeruutusehdot\nIlmoittautuminen on sitova ja ilmoittautumisen yhteydessä sitoudut maksamaan varausmaksun (50€/ilmoittautuminen; sis. kursin hintaan). Varausmaksu palautetaan ainoastaan siinä tapauksessa\, että Otavan Opisto joutuu peruuttamaan kurssin.\nPidätämme oikeudet muutoksiin.
LOCATION:Otavan Opisto (verkko-opetus)\, Otavantie 2B\, 50670\, Otava
 (Mikkeli)
URL:http://ilmoittautuminen.otavanopisto.fi/luonnon_luovakuvaus_2023
END:VEVENT
END:VCALENDAR
