BEGIN:VCALENDAR
METHOD:PUBLISH
VERSION:2.0
PRODID:-//Eventilla iCal Syndication//NONSGML Liana//EN
BEGIN:VEVENT
UID:Oo8wl@eventilla.com
DTSTAMP:20260601T150000Z
DTSTART:20260601T150000Z
DTEND:20260607T070000Z
SUMMARY:Viestintäleiri koululaisille 1.6.-7.6.2026 (Rämälän koulu/Mikkeli)
DESCRIPTION:Leirimaksu\nLeirimaksu 175€/hlö (sis. leiriohjelma\, ruokailut\, telttapaikka)\nAikuisen leirimaksu 65€/hlö (sis. vapaavalintaisesti leiriohjelmaa\, ruokailut\, telttapaikka)\nKultsin leirimaksu 65€/hlö (sis. vapaavalintaisesti leiriohjelmaa\, ruokailut\, telttapaikka)\nMajoitus\nLeirillä majoitutaan teltoissa. Oma teltta kannattaa ottaa mukaan\, mutta myös seuralla on telttoja lainattavaksi. Mikäli sinulla ei ole omaa telttaa\, ilmoita siitä ilmoittautumislomakkeella.\nLisätietoja\nLisätietoja leirin sisällöstä: Laura Viherä\, laura.vihera@viekas.fi\, p. 0407205795 ja nettisivuilta viekas.fi.\nLisätietoja leirin järjestelyistä Otavan Opistolta: kurssit@otavanopisto.fi\, p. 044 794 3565\nIlmoittautuminen\nIlmoittautuminen 15.5.2026 mennessä.\nPeruutusehdot\nIlmoittautuminen on sitova ja ilmoittautumisen yhteydessä veloitamme leirimaksun. Mahdollisessa peruutustilanteessa voit ilmoittaa toisen osallistujan tilallesi. Leirimaksu palautetaan ainoastaan siinä tapauksessa\, että Otavan Opisto joutuu peruuttamaan leirin.\nPidätämme oikeudet muutoksiin.
LOCATION:Rämälän koulu\, Vehmaskyläntie 1\, 50300\, Mikkeli
URL:http://ilmoittautuminen.otavanopisto.fi/viestintaleiri_2026
END:VEVENT
END:VCALENDAR
