BEGIN:VCALENDAR
METHOD:PUBLISH
VERSION:2.0
PRODID:-//Eventilla iCal Syndication//NONSGML Liana//EN
BEGIN:VEVENT
UID:bovK0@eventilla.com
DTSTAMP:20260130T160000Z
DTSTART:20260130T160000Z
DTEND:20260201T130000Z
SUMMARY:Alfacon 2026 – Kaaosta ilmassa 30.1.-1.2.2026 (Otava)
DESCRIPTION:Kurssin hinta\n85 €/hlö (sis. opetus\, kurssiohjelman mukaiset ruokailut ja majoitus 2-3 hengen huoneessa)\n75€/hlö (sis. opetus\, kurssiohjelman mukaiset ruokailut/ei majoitusta)\nIlmoittautuminen\nIlmoittautuminen 18.1.2028 mennessä tai niin kauan kuin paikkoja riittää.\nPeruutusehdot\nIlmoittautuminen on sitova ja ilmoittautumisen yhteydessä veloitamme kurssimaksun ja valitun majoituksen. Maksut palautetaan ainoastaan siinä tapauksessa\, että Otavan Opisto joutuu peruuttamaan koulutuksen.\nMahdollisessa peruutustapauksessa osallistuja voi ilmoittaa toisen osallistujan tilalleen.\nOikeudet muutoksiin pidätetään.
LOCATION:Otavan Opisto\, Otavantie 2B\, 50670\, Otava (Mikkeli)
URL:http://ilmoittautuminen.otavanopisto.fi/alfacon_2026
END:VEVENT
END:VCALENDAR
