BEGIN:VCALENDAR
METHOD:PUBLISH
VERSION:2.0
PRODID:-//Eventilla iCal Syndication//NONSGML Liana//EN
BEGIN:VEVENT
UID:m0Q1V@eventilla.com
DTSTAMP:20190610T060000Z
DTSTART:20190610T060000Z
DTEND:20191231T120000Z
SUMMARY:Tulevaisuudentutkimus - Delfoi-koulutus 1.7.-31.12.2019
DESCRIPTION:Pajojen aikataulut (kevätlukukausi)\n\n23.-24.8.2019\n20.-21.9.2019\n25.-26.10.2019\n15.-16.11.2019\n13.-14.12.2019\n\nHinta\nKoulutuksen hinta on 100€/hlö/lukukausi.\nPeruutusehdot\nIlmoittautuminen on sitova ja ilmoittautumisen yhteydessä veloitamme osallistumismaksun (100€/ilmoittautuminen). Osallistumismaksu palautetaan ainoastaan siinä tapauksessa\, että Otavan Opisto joutuu peruuttamaan koulutuksen.\nPidätämme oikeudet muutoksiin.\n \n 
LOCATION:Otavan Opisto\, Otavantie 2B\, 50670\, Otava (Mikkeli)
URL:http://ilmoittautuminen.otavanopisto.fi/delfoi_syyslukukausi_2019
END:VEVENT
END:VCALENDAR
