BEGIN:VCALENDAR
METHOD:PUBLISH
VERSION:2.0
PRODID:-//Eventilla iCal Syndication//NONSGML Liana//EN
BEGIN:VEVENT
UID:moGMG@eventilla.com
DTSTAMP:20210101T070000Z
DTSTART:20210101T070000Z
DTEND:20210630T090000Z
SUMMARY:Tulevaisuudentutkimus - Delfoi-menetelmäkoulutus 1.1.-30.6.2021
DESCRIPTION:Pajojen aikataulut (kevätlukukausi 2021)\n\n29.-30.1.2021\n5.-6.3.2021\n9.-10.4.2021\n14.-15.5.2021\n11.-12.6.2021\n\nHinta\nKoulutuksen hinta on 100€/hlö/lukukausi.\nPeruutusehdot\nIlmoittautuminen on sitova ja ilmoittautumisen yhteydessä veloitamme osallistumismaksun (100€/ilmoittautuminen). Osallistumismaksu palautetaan ainoastaan siinä tapauksessa\, että Otavan Opisto joutuu peruuttamaan koulutuksen.\nPidätämme oikeudet muutoksiin.\n \n 
LOCATION:Otavan Opisto\, Otavantie 2B\, 50670\, Otava (Mikkeli)
URL:http://ilmoittautuminen.otavanopisto.fi/delfoi_kevatlukukausi_2021
END:VEVENT
END:VCALENDAR
