BEGIN:VCALENDAR
METHOD:PUBLISH
VERSION:2.0
PRODID:-//Eventilla iCal Syndication//NONSGML Liana//EN
BEGIN:VEVENT
UID:ryy0Q@eventilla.com
DTSTAMP:20250320T160000Z
DTSTART:20250320T160000Z
DTEND:20250331T181500Z
SUMMARY:Luonnonvaraisten lintujen ja nisäkkäiden valokuvaus 20.3.-3.4.2025 (verkkokurssi)
DESCRIPTION:Hinta\nVerkkokurssin hinta on 155€/hlö (sis. opetuksen\, tehtävät ja kurssilla käsiteltävä materiaali).\nKurssille osallistuminen vahvistetaan ilmoittautumalla kurssille sähköisen lomakkeen kautta; ilmoittautuneille lähetetään ilmoittautumisajan päätyttyä maksulinkki\, jonka kautta kurssin pääsee maksamaan verkkopankissa pankki- tai luottokortilla.\nKurssimaksun voi maksaa myös ePassilla\, SmartumPay- tai Edenred–sovelluksella.\nHuom! Älä maksa sovelluksellasi mitään ennen kuin olet sopinut erikseen maksutapahtumasta Otavan Opiston kanssa – kysy lisätietoja kurssit@otavanopisto.fi\nLisätietoja\nkurssit@otavanopisto.fi\, p. 044 794 3565\nIlmoittautuminen\nIlmoittautuminen 14.3.2025 mennessä.\nPeruutusehdot\nIlmoittautuminen on sitova ja ilmoittautumisen yhteydessä sitoudut maksamaan varausmaksun (50€/ilmoittautuminen; sis. kursin hintaan). Varausmaksu palautetaan ainoastaan siinä tapauksessa\, että Otavan Opisto joutuu peruuttamaan kurssin.\n Pidätämme oikeudet muutoksiin.
LOCATION:Otavan Opisto (verkko-opetus)\, Otavantie 2B\, 50670\, Otava
 (Mikkeli)
URL:http://ilmoittautuminen.otavanopisto.fi/luonnonvaraisten_elainten_valokuvaus_2024
END:VEVENT
END:VCALENDAR
