BEGIN:VCALENDAR
METHOD:PUBLISH
VERSION:2.0
PRODID:-//Eventilla iCal Syndication//NONSGML Liana//EN
BEGIN:VEVENT
UID:xO6LB@eventilla.com
DTSTAMP:20210620T130000Z
DTSTART:20210620T130000Z
DTEND:20210624T110000Z
SUMMARY:Rumpukesäleiri: Let’s have a good TIME! 20.-24.6.2021
DESCRIPTION:Kurssin hinta\nKurssin hinta on 350€/hlö (sis. opetuksen ja kurssiohjelman mukaiset ruokailut).\nMajoittumismahdollisuus Otavan Opistolla\n80€/2hh (4 yötä\, sis. aamiainen)120€/1hh solu (4 yötä\, sis. aamiainen)140€/1hh (4 yötä\, sis. aamiainen)                                                             \nLisätietoja: kurssit@otavanopistop.fi\, puh. 044 7943565\nPeruutusehdot\nIlmoittautuminen on sitova ja ilmoittautumisen yhteydessä veloitamme varausmaksun (100€/ilmoittautuminen)\, jota ei palauteta. Varausmaksu palautetaan ainoastaan siinä tapauksessa\, että Otavan Opisto joutuu peruuttamaan kurssin.\nIlmoittautumisajan päättymisen jälkeen 15.5.2021 tapahtuneesta peruuttamisesta/kurssilta poisjäännistä veloitamme puolet jäljellä olevasta kurssimaksusta ja varatun majoituksen hinnasta.\nMikäli osallistuja ei peruuta osallistumistaan ja/tai jättää osallistumatta kurssille tai koulutukseen\, veloitamme koko jäljellä olevan kurssimaksun.\nPidätämme oikeuden muutoksiin.
LOCATION:Otavan Opisto\, Otavantie 2 B\, 50670\, Otava
URL:http://ilmoittautuminen.otavanopisto.fi/rumpukesaleiri2021
END:VEVENT
END:VCALENDAR
