BEGIN:VCALENDAR
METHOD:PUBLISH
VERSION:2.0
PRODID:-//Eventilla iCal Syndication//NONSGML Liana//EN
BEGIN:VEVENT
UID:yWp39@eventilla.com
DTSTAMP:20220101T070000Z
DTSTART:20220101T070000Z
DTEND:20220630T070000Z
SUMMARY:Tulevaisuudentutkimus - Delfoi-menetelmäkoulutus 1.1.-30.6.2022
DESCRIPTION:Pajojen aikataulut (kevätlukukausi 2022)\n\n28.-29.1.2022\n4.-5.3.2022\n8.-9.4.2022\n13.-14.5.2022\n10.-11.6.2022\n\nHinta\nKoulutuksen hinta on 100€/hlö/lukukausi.\nPeruutusehdot\nIlmoittautuminen on sitova ja ilmoittautumisen yhteydessä veloitamme osallistumismaksun (100€/ilmoittautuminen). Osallistumismaksu palautetaan ainoastaan siinä tapauksessa\, että Otavan Opisto joutuu peruuttamaan koulutuksen.\nPidätämme oikeudet muutoksiin.\n \n 
LOCATION:Otavan Opisto\, Otavantie 2B\, 50670\, Otava (Mikkeli)
URL:http://ilmoittautuminen.otavanopisto.fi/delfoi_kevatlukukausi_2022
END:VEVENT
END:VCALENDAR
